BEGIN:VCALENDAR
VERSION:2.0
PRODID:-//OneGov//onegov.event//
BEGIN:VEVENT
SUMMARY:Active City
DTSTART:20260517T220000Z
DTEND:20260518T215900Z
DTSTAMP:20260422T090353Z
UID:active-city-1-2026-05-17@onegov.event
RRULE:FREQ=WEEKLY;UNTIL=20260711T215900Z;BYDAY=MO,TU,WE,TH,FR,SA;WKST=MO
CATEGORIES:
DESCRIPTION:Gratis Sport- und Bewegungskurse für jeden Geschmack\, jedes 
 Alter und für jedes Fitness-Level erwarten dich. Komm vorbei und mach mit
 !
GEO:47.49974808753403;8.734276350369159
LAST-MODIFIED:20260422T090353Z
LOCATION:Eulachpark und Vögelipark
URL:https://veranstaltungen.winterthur.ch/event/active-city-1-2026-05-17
END:VEVENT
END:VCALENDAR
