BEGIN:VCALENDAR
VERSION:2.0
PRODID:-//OneGov//onegov.event//
BEGIN:VEVENT
SUMMARY:LA Schule
DTSTART:20260506T141500Z
DTEND:20260506T160000Z
DTSTAMP:20260310T075238Z
UID:la-schule-1-2026-05-06@onegov.event
RRULE:FREQ=WEEKLY;UNTIL=20260930T160000Z;BYDAY=WE;WKST=MO
CATEGORIES:
DESCRIPTION:Hast du Freude am Rennen\, Springen\, Werfen und möchtest die
  faszinierende Welt der Leichtathletik entdecken? Dann bist du bei uns gen
 au richtig! Die LA-Schule der LV Winterthur bietet Kindern im Alter von 6-
 9 Jahren die Möglichkeit\, die Leichtathletik auf spielerische Art und We
 ise kennenzulernen. Dich erwarten von den Frühlings- bis zu den Herbstfer
 ien (ausgenommen Sommerferien) jeden Mittwoch von 16.15 bis 18.00 Uhr viel
 e gleichaltrige Kinder\, mit denen du gemeinsam trainieren und jede Menge 
 Spass haben wirst.\n\nBist du bereit für dieses Abenteuer? Dann melde dic
 h gleich an oder komm spontan vorbei. Wir trainieren auf der Leichtathleti
 kanlage Deutweg\, Grüzefeldstrasse 28\, 8400 Winterthur. 
GEO:47.49525735819963;8.746496943154979
LAST-MODIFIED:20260310T075238Z
LOCATION:Sportanlage Deutweg\, Grüzefeldstrasse 28\, 8400 Winterthur
URL:https://veranstaltungen.winterthur.ch/event/la-schule-1-2026-05-06
END:VEVENT
END:VCALENDAR
