BEGIN:VCALENDAR
VERSION:2.0
PRODID:-//OneGov//onegov.event//
BEGIN:VEVENT
SUMMARY:30+ Einführungskurs Karate
DTSTART:20260701T170000Z
DTEND:20260701T183000Z
DTSTAMP:20260422T090416Z
UID:30-einfuehrungskurs-karate-2026-07-01@onegov.event
CATEGORIES:
DESCRIPTION:Entdecke Karate in einer ruhigen und einsteigerfreundlichen Fo
 rm. Unser Anfängerkurs vermittelt Grundlagen von Bewegung\, Koordination 
 und einfachen Selbstverteidigungstechniken – ganz ohne Wettkampfdruck. I
 deal für Erwachsene\, die Fitness\, Körperbewusstsein und einen Ausgleic
 h zum Alltag suchen.
GEO:47.51633820892871;8.72093657124067
LAST-MODIFIED:20260422T090416Z
LOCATION:Schaffhauserstrasse 150\, 8400 Winterthur
URL:https://veranstaltungen.winterthur.ch/event/30-einfuehrungskurs-karate
 -2026-07-01
END:VEVENT
END:VCALENDAR
