BEGIN:VCALENDAR
VERSION:2.0
PRODID:-//OneGov//onegov.event//
BEGIN:VEVENT
SUMMARY:Einladung zur Eröffnung - Krabbler - unheimlich faszinierend
DTSTART:20260321T153000Z
DTEND:20260321T200000Z
DTSTAMP:20260203T102453Z
UID:einladung-zur-eroeffnung-2026-03-21@onegov.event
CATEGORIES:
DESCRIPTION:Insekten\, Spinnentiere\, Krebstiere und Tausendfüsser – ig
 itt!? Nein! Diese «Krabbler» sind nicht nur wichtig und nützlich\, sond
 ern auch sehr vielseitig und faszinierend – heute mehr denn je bedroht. 
 \n\nNach der Begrüssung durch Daniela Zingg\, Direktorin des Naturmuseums
  Winterthur\, gibt Matthias Meier\, Direktor des Naturmuseums St. Gallen\,
  einen Einblick in die Ausstellung. Anschliessend führt Sabrina Schnurren
 berger durch die Ausstellung.\n\nGerne laden wir dich zu einem Apéro ein.
 \n\n
GEO:47.50149881051195;8.73040618777367
LAST-MODIFIED:20260203T102453Z
LOCATION:Museumstrasse 52\, 8400 Winterthur
URL:https://veranstaltungen.winterthur.ch/event/einladung-zur-eroeffnung-2
 026-03-21
END:VEVENT
END:VCALENDAR
