BEGIN:VCALENDAR
VERSION:2.0
PRODID:-//OneGov//onegov.event//
BEGIN:VEVENT
SUMMARY:Engineers' Day 2026 im Tiefbauamt
DTSTART:20260304T150000Z
DTEND:20260304T170000Z
DTSTAMP:20260227T093335Z
UID:engineers-day-2026-im-tiefbauamt-2026-03-04@onegov.event
CATEGORIES:
DESCRIPTION:Am 4. März 2026 wird wiederum der Engineers’ Day begangen w
 ww.engineersday.ch Schweizweit und international werden an diesem Tag der 
 interessierten Bevölkerung und dem potentiellen Nachwuchs die technischen
  Berufe näher gebracht. Worin besteht die Aufgabe eines Bauingenieurs? Wa
 s macht die Tiefbauzeichnerin bei einer Kanalsanierung?  Was ist die Rolle
  eines Projektleiters bei der Stadt Winterthur? Und wer muss sonst noch mi
 ttun\, damit das Projekt reibungslos läuft? Diese Fragen und mehr beantwo
 rten wir im Rahmen unseres Projektes «Bachtelstrasse»\, wo das Tiefbauam
 t zurzeit Bach- und Abwasserkanäle ersetzt\, neue Werkleitungen legt und 
 die Strasse saniert. \n\nWir laden Sie ein\, Einblick in unsere Projektorg
 anisation\, die interdisziplinäre Zusammenarbeit\, die technischen und or
 ganisatorischen Herausforderungen dieses spannenden Projektes zu erhalten.
  Im Rahmen einer Präsentation sowie anschliessender Baustellenführung er
 fahren Sie\, was hinter den Baustellenkulissen und unter dem Boden abgeht\
 , während der Verkehr möglichst ungestört weiterläuft. Und Sie dürfen
  mit dem Kanalfernsehen ins Dunkel der Kanäle abtauchen und unsichtbare W
 elten und unbekannte Wahrheiten entdecken. \n\nUnd sollte die Neugier dami
 t noch nicht gestillt sein\, dürfen Sie danach den anwesenden Projektbete
 iligten beim gemeinsamen Apero gerne noch weitere Fragen stellen. \n\nWir 
 freuen uns auf Ihre Anmeldung! \n\n
LAST-MODIFIED:20260227T093335Z
LOCATION:Baustelle Bachtelstrasse\, Winterthur
URL:https://veranstaltungen.winterthur.ch/event/engineers-day-2026-im-tief
 bauamt-2026-03-04
END:VEVENT
END:VCALENDAR
