BEGIN:VCALENDAR
VERSION:2.0
PRODID:-//OneGov//onegov.event//
BEGIN:VEVENT
SUMMARY:Fussball: FCW-Servette (Super League)
DTSTART:20260303T193000Z
DTEND:20260303T213000Z
DTSTAMP:20260303T010019Z
UID:fussball-fcw-servette-super-league-4-2026-03-03@onegov.event
CATEGORIES:
DESCRIPTION:
LAST-MODIFIED:20260303T010019Z
LOCATION:Stadion Schützenwiese\, Rennweg 5\, 8400 Winterthur\, Schweiz
URL:https://veranstaltungen.winterthur.ch/event/fussball-fcw-servette-supe
 r-league-4-2026-03-03
END:VEVENT
END:VCALENDAR
