BEGIN:VCALENDAR
VERSION:2.0
PRODID:-//OneGov//onegov.event//
BEGIN:VEVENT
SUMMARY:Schulung zum Regenerieren
DTSTART:20260529T070000Z
DTEND:20260529T084500Z
DTSTAMP:20260420T094321Z
UID:schulung-zum-regenerieren-2026-05-29@onegov.event
CATEGORIES:
DESCRIPTION:Du lernst\, wie kalt angelieferte Mahlzeiten sicher\, hygienis
 ch und kindgerecht regeneriert werden\, damit Qualität\, Geschmack und Le
 bensmittelsicherheit gewährleistet sind.
LAST-MODIFIED:20260420T094321Z
LOCATION:29. Mai Talwiesen
URL:https://veranstaltungen.winterthur.ch/event/schulung-zum-regenerieren-
 2026-05-29
END:VEVENT
END:VCALENDAR
